BEGIN:VCALENDAR
VERSION:2.0
PRODID:-//Atlantic Prevention Resources - ECPv6.15.20//NONSGML v1.0//EN
CALSCALE:GREGORIAN
METHOD:PUBLISH
X-WR-CALNAME:Atlantic Prevention Resources
X-ORIGINAL-URL:https://www.atlprev.org
X-WR-CALDESC:Events for Atlantic Prevention Resources
REFRESH-INTERVAL;VALUE=DURATION:PT1H
X-Robots-Tag:noindex
X-PUBLISHED-TTL:PT1H
BEGIN:VTIMEZONE
TZID:America/New_York
BEGIN:DAYLIGHT
TZOFFSETFROM:-0500
TZOFFSETTO:-0400
TZNAME:EDT
DTSTART:20220313T070000
END:DAYLIGHT
BEGIN:STANDARD
TZOFFSETFROM:-0400
TZOFFSETTO:-0500
TZNAME:EST
DTSTART:20221106T060000
END:STANDARD
BEGIN:DAYLIGHT
TZOFFSETFROM:-0500
TZOFFSETTO:-0400
TZNAME:EDT
DTSTART:20230312T070000
END:DAYLIGHT
BEGIN:STANDARD
TZOFFSETFROM:-0400
TZOFFSETTO:-0500
TZNAME:EST
DTSTART:20231105T060000
END:STANDARD
BEGIN:DAYLIGHT
TZOFFSETFROM:-0500
TZOFFSETTO:-0400
TZNAME:EDT
DTSTART:20240310T070000
END:DAYLIGHT
BEGIN:STANDARD
TZOFFSETFROM:-0400
TZOFFSETTO:-0500
TZNAME:EST
DTSTART:20241103T060000
END:STANDARD
END:VTIMEZONE
BEGIN:VEVENT
DTSTART;TZID=America/New_York:20230331T180000
DTEND;TZID=America/New_York:20230331T220000
DTSTAMP:20260422T184659
CREATED:20230105T200650Z
LAST-MODIFIED:20230112T171816Z
UID:651-1680285600-1680300000@www.atlprev.org
SUMMARY:Atlantic Prevention Resources' Inaugural "Recovery is Possible" Fundraiser
DESCRIPTION:This event is benefitting Atlantic Prevention Resources’ substance use and co-occurring disorders treatment program. Tickets are $100 per person\, which includes hors d’oeuvres\, complimentary mocktails\, music\, & keynote speaker\, Ryan D. Leaf\, former NFL Quarterback and recovery advocate. Cash bar available. \nPlease read the community letter where you will find the event flyer and sponsorship form. To make a DONATION  to the event click the “Donate Now” button on the top right of the screen. In the memo line simply write “treatment”. For tickets click the following link: Purchase Ticket Here  or scan the QR code below: \n  \n \nYou will receive a receipt in your email. To become a sponsor call (609) 272-0964 ext. 251 or email jurbonas@atlprev.org or mail form with check enclosed to 1416 N Main St.\, Pleasantville\, NJ 08232. Thank you for your ongoing support. Recovery IS possible!
URL:https://www.atlprev.org/atlantic-prevention-resources-event/recoveryispossible/
LOCATION:Linwood Country Club\, 500 Shore Rd.\, Linwood\, NJ\, 08221\, United States
ORGANIZER;CN="Justin Urbonas":MAILTO:jurbonas@atlprev.org
END:VEVENT
END:VCALENDAR